BEGIN:VCALENDAR
VERSION:2.0
PRODID:-//Athemis//Events//EN
CALSCALE:GREGORIAN
X-WR-TIMEZONE:Europe/Zurich
BEGIN:VEVENT
UID:773bd4a3-536f-496c-8b2d-4397100953d9
SUMMARY:Prochain Cadran-AIP du jeudi 30 avril 2026
DESCRIPTION:
LOCATION:
DTSTART;TZID=Europe/Zurich:20260430T080000
DTSTAMP:20260425T133641Z
DTEND;TZID=Europe/Zurich:20260430T080000
END:VEVENT
END:VCALENDAR
