BEGIN:VCALENDAR
VERSION:2.0
PRODID:-//Athemis//Events//EN
CALSCALE:GREGORIAN
X-WR-TIMEZONE:Europe/Zurich
BEGIN:VEVENT
UID:0e739f47-3687-4493-bf97-5666ae4c8ecf
SUMMARY:Cadran-AIP du jeudi 7 mai 2026
DESCRIPTION:
LOCATION:
DTSTART;TZID=Europe/Zurich:20260507T080000
DTSTAMP:20260425T134456Z
DTEND;TZID=Europe/Zurich:20260507T080000
END:VEVENT
END:VCALENDAR
